Workbook

Sheet BUSCAR
B3: HOY NO CIRCULA
M4: CODIGO | N4: PRODUCTO | O4: PRECIO UNITARIO
B5: LUNES | C5: 1 AL 2 | D5: ROJA | M5: 1001 | N5: ESTUFA | O5: 5000
B6: MARTES | C6: 3 AL 4 | D6: AMARILLO | M6: 1002 | N6: COMEDOR | O6: 6000
B7: MIERCOLES | C7: 5 AL 6 | D7: VERDE | M7: 1003 | N7: SALA | O7: 7000
B8: JUEVES | C8: 7 AL 8 | D8: AZUL | M8: 1004 | N8: TELEVISOR | O8: 8000
B9: VIERNES | C9: 9 AL 0 | D9: ROSA | M9: 1005 | N9: LAVADORA | O9: 9000
M10: 1006 | N10: GRABADORA | O10: 10000
M11: 1007 | N11: VIDEO GRABADORA | O11: 11000
M12: 1008 | N12: ESTEREO | O12: 12000
B13: BUSQUEDA VERTICAL | M13: 1009 | N13: HORNO DE MICRO HONDAS | O13: 13000
B14: DIA | C14: LUNES | M14: 1010 | N14: ESTRACTOR DE JUGOS | O14: 14000
B15: TERMINACION | C15: =VLOOKUP(C14,$B$5:$D$9,2,0) -> 1 AL 2 | M15: 1011 | N15: SECADORA | O15: 15000
B16: CALCOMANIA | C16: =VLOOKUP(C14,$B$5:$D$9,3,0) -> ROJA | M16: 1012 | N16: RECAMARA | O16: 16000
M17: 1013 | N17: VENTILADOR | O17: 17000
M19: BUSQUEDA VERTICAL
M20: CODIGO | N20: 1001
M21: PRODUCTO | N21: =HLOOKUP(N20,$M$5:$O$17,1,0) -> 1001
M22: PRECIO | N22: =VLOOKUP(N20,M5:$O$17,3,0) -> 5000
B23: DIA | C23: LUNES | D23: MARTES | E23: MIERCOLES | F23: JUEVES | G23: VIERNES
B24: TERMINACION | C24: 1 AL 2 | D24: 3 AL 4 | E24: 5 AL 6 | F24: 7 AL 8 | G24: 9 AL 0
B25: CALCOMANIA | C25: ROJA | D25: AMARILLA | E25: VERDE | F25: AZUL | G25: ROSA
B27: HOY NO CIRCULA: | C27: LUNES | D27: TERMINACION | E27: =HLOOKUP(C27,$C$23:$G$25,2,0) -> 1 AL 2 | F27: CALCOMANIA | G27: =HLOOKUP(C27,$C$23:$G$25,3,0) -> ROJA
C36: NIVEL | D36: SUELDO | E36: COMPENSACION | F36: IVA | G36: SUELDO
D37: BRUTO | F37: 0.16 | G37: NETO
C38: 6 | D38: 15000 | E38: =HLOOKUP(C38,$C$44:$F$45,2,0) -> 700 | F38: =D38*$F$37 -> 2400 | G38: =D38+E38-F38 -> 13300
C39: 8 | D39: 12000 | E39: =HLOOKUP(C39,$C$44:$F$45,2,0) -> 550 | F39: =D39*$F$37 -> 1920 | G39: =D39+E39-F39 -> 10630
C40: 10 | D40: 10000 | E40: =HLOOKUP(C40,$C$44:$F$45,2,0) -> 400 | F40: =D40*$F$37 -> 1600 | G40: =D40+E40-F40 -> 8800
C41: 12 | D41: 8000 | E41: =HLOOKUP(C41,$C$44:$F$45,2,0) -> 300 | F41: =D41*$F$37 -> 1280 | G41: =D41+E41-F41 -> 7020
B44: NIVEL | C44: 6 | D44: 8 | E44: 10 | F44: 12
B45: COMPENSACION | C45: 700 | D45: 550 | E45: 400 | F45: 300

Sheet DATOS
A1: RFC | B1: PATERNO | C1: MATERNO | D1: NOMBRE | E1: SUELDO
A2: AALA740601 | B2: ALFARO | C2: LEMUS | D2: ANGEL | E2: 20000
A3: VAGC | B3: VALDES | C3: GOEDINEZ | D3: CAROLINA | E3: 50000
A4: VECD | B4: VERA | C4: CRUZ | D4: DIANA | E4: 30000
A5: COLL780106 | B5: CORONA | C5: LIRA | D5: LLENI | E5: 46500
A6: AOMR79122 | B6: ARROYO | C6: MENDOZA | D6: MARIA DEL ROSARIO | E6: 55000
A7: AIRE750814 | B7: AVILA | C7: ROMERO | D7: MARIA EUGENIA | E7: 55100
A8: RILA720422 | B8: RINCON | C8: LOPEZ | D8: JOSE ALEJANDRO | E8: 10000
G11: RFC | H11: AOMR79122
G12: PATERNO | H12: =VLOOKUP(H11,$A$2:$E$8,2,0) -> ARROYO
G13: MATERNO | H13: =VLOOKUP(H11,$A$2:$E$8,3,0) -> MENDOZA
G14: NOMBRE | H14: =VLOOKUP(H11,$A$2:$E$8,4,0) -> MARIA DEL ROSARIO
G15: SUELDO | H15: =VLOOKUP(H11,$A$2:$E$8,5,0) -> 55000

Sheet CRUCE OTRO ARCH
A1: NO. | B1: NOMBRE | C1: PROMEDIO | D1: EVALUACIÓN
A2: 1 | B2: =VLOOKUP(A2,[1]Desempeño!$A$1:$G$19,2,0) -> Alvarado Islas Josefina | C2: =VLOOKUP(A2,[1]Desempeño!$A$2:$G$19,6,0) -> 4.6666667 | D2: =VLOOKUP(A2,[1]Desempeño!$A$1:$G$19,7,0) -> Mal
A3: 2 | B3: =VLOOKUP(A3,[1]Desempeño!$A$1:$G$19,2,0) -> Avendaño Alonso Víctor Manuel | C3: =VLOOKUP(A3,[1]Desempeño!$A$2:$G$19,6,0) -> 8.8333333 | D3: =VLOOKUP(A3,[1]Desempeño!$A$1:$G$19,7,0) -> Regular
A4: 3 | B4: =VLOOKUP(A4,[1]Desempeño!$A$1:$G$19,2,0) -> De López Maria Luisa | C4: =VLOOKUP(A4,[1]Desempeño!$A$2:$G$19,6,0) -> 9 | D4: =VLOOKUP(A4,[1]Desempeño!$A$1:$G$19,7,0) -> Bien
A5: 4 | B5: =VLOOKUP(A5,[1]Desempeño!$A$1:$G$19,2,0) -> Espinosa Pedrajo Sergio | C5: =VLOOKUP(A5,[1]Desempeño!$A$2:$G$19,6,0) -> 10 | D5: =VLOOKUP(A5,[1]Desempeño!$A$1:$G$19,7,0) -> Excelente
A6: 5 | B6: =VLOOKUP(A6,[1]Desempeño!$A$1:$G$19,2,0) -> Flores Díaz Lucía | C6: =VLOOKUP(A6,[1]Desempeño!$A$2:$G$19,6,0) -> 9.6666667 | D6: =VLOOKUP(A6,[1]Desempeño!$A$1:$G$19,7,0) -> Bien
A7: 6 | B7: =VLOOKUP(A7,[1]Desempeño!$A$1:$G$19,2,0) -> Gómez y Vázquez Angélica | C7: =VLOOKUP(A7,[1]Desempeño!$A$2:$G$19,6,0) -> 9.8333333 | D7: =VLOOKUP(A7,[1]Desempeño!$A$1:$G$19,7,0) -> Bien
A8: 7 | B8: =VLOOKUP(A8,[1]Desempeño!$A$1:$G$19,2,0) -> Huerta Arellano Martha | C8: =VLOOKUP(A8,[1]Desempeño!$A$2:$G$19,6,0) -> 9.0666667 | D8: =VLOOKUP(A8,[1]Desempeño!$A$1:$G$19,7,0) -> Bien
A9: 8 | B9: =VLOOKUP(A9,[1]Desempeño!$A$1:$G$19,2,0) -> López Osornio Guadalupe | C9: =VLOOKUP(A9,[1]Desempeño!$A$2:$G$19,6,0) -> 9 | D9: =VLOOKUP(A9,[1]Desempeño!$A$1:$G$19,7,0) -> Bien
A10: 9 | B10: =VLOOKUP(A10,[1]Desempeño!$A$1:$G$19,2,0) -> Lucio Hernández Ricardo | C10: =VLOOKUP(A10,[1]Desempeño!$A$2:$G$19,6,0) -> 8.9333333 | D10: =VLOOKUP(A10,[1]Desempeño!$A$1:$G$19,7,0) -> Regular
A11: 10 | B11: =VLOOKUP(A11,[1]Desempeño!$A$1:$G$19,2,0) -> Manriquez López Araceli | C11: =VLOOKUP(A11,[1]Desempeño!$A$2:$G$19,6,0) -> 9.1666667 | D11: =VLOOKUP(A11,[1]Desempeño!$A$1:$G$19,7,0) -> Bien
A12: 11 | B12: =VLOOKUP(A12,[1]Desempeño!$A$1:$G$19,2,0) -> Martínez González Salvador | C12: =VLOOKUP(A12,[1]Desempeño!$A$2:$G$19,6,0) -> 9.1666667 | D12: =VLOOKUP(A12,[1]Desempeño!$A$1:$G$19,7,0) -> Bien
A13: 12 | B13: =VLOOKUP(A13,[1]Desempeño!$A$1:$G$19,2,0) -> Navarro González Alma Delia | C13: =VLOOKUP(A13,[1]Desempeño!$A$2:$G$19,6,0) -> 7.6666667 | D13: =VLOOKUP(A13,[1]Desempeño!$A$1:$G$19,7,0) -> Regular
... A19: 18 | B19: =VLOOKUP(A19,[1]Desempeño!$A$1:$G$19,2,0) -> Valdéz Cabrera Ma. De Jesús Martha | C19: =VLOOKUP(A19,[1]Desempeño!$A$2:$G$19,6,0) -> 9.7666667 | D19: =VLOOKUP(A19,[1]Desempeño!$A$1:$G$19,7,0) -> Bien

Sheet CRUCE
A1: RFC | B1: PATERNO | C1: MATERNO | D1: NOMBRE | E1: SUELDO
A2: AALA740601 | B2: =VLOOKUP(A2,DATOS!$A$2:$E$8,2,0) -> ALFARO | C2: =VLOOKUP(A2,DATOS!$A$2:$E$8,3,0) -> LEMUS | D2: =VLOOKUP(A2,DATOS!$A$2:$E$8,4,0) -> ANGEL | E2: =VLOOKUP(A2,DATOS!$A$2:$E$8,5,0) -> 20000
A3: VAGC | B3: =VLOOKUP(A3,DATOS!$A$2:$E$8,2,0) -> VALDES | C3: =VLOOKUP(A3,DATOS!$A$2:$E$8,3,0) -> GOEDINEZ | D3: =VLOOKUP(A3,DATOS!$A$2:$E$8,4,0) -> CAROLINA | E3: =VLOOKUP(A3,DATOS!$A$2:$E$8,5,0) -> 50000
A4: VECD | B4: =VLOOKUP(A4,DATOS!$A$2:$E$8,2,0) -> VERA | C4: =VLOOKUP(A4,DATOS!$A$2:$E$8,3,0) -> CRUZ | D4: =VLOOKUP(A4,DATOS!$A$2:$E$8,4,0) -> DIANA | E4: =VLOOKUP(A4,DATOS!$A$2:$E$8,5,0) -> 30000
A5: COLL780106 | B5: =VLOOKUP(A5,DATOS!$A$2:$E$8,2,0) -> CORONA | C5: =VLOOKUP(A5,DATOS!$A$2:$E$8,3,0) -> LIRA | D5: =VLOOKUP(A5,DATOS!$A$2:$E$8,4,0) -> LLENI | E5: =VLOOKUP(A5,DATOS!$A$2:$E$8,5,0) -> 46500
A6: AOMR79122 | B6: =VLOOKUP(A6,DATOS!$A$2:$E$8,2,0) -> ARROYO | C6: =VLOOKUP(A6,DATOS!$A$2:$E$8,3,0) -> MENDOZA | D6: =VLOOKUP(A6,DATOS!$A$2:$E$8,4,0) -> MARIA DEL ROSARIO | E6: =VLOOKUP(A6,DATOS!$A$2:$E$8,5,0) -> 55000
A7: AIRE750814 | B7: =VLOOKUP(A7,DATOS!$A$2:$E$8,2,0) -> AVILA | C7: =VLOOKUP(A7,DATOS!$A$2:$E$8,3,0) -> ROMERO | D7: =VLOOKUP(A7,DATOS!$A$2:$E$8,4,0) -> MARIA EUGENIA | E7: =VLOOKUP(A7,DATOS!$A$2:$E$8,5,0) -> 55100
A8: RILA720422 | B8: =VLOOKUP(A8,DATOS!$A$2:$E$8,2,0) -> RINCON | C8: =VLOOKUP(A8,DATOS!$A$2:$E$8,3,0) -> LOPEZ | D8: =VLOOKUP(A8,DATOS!$A$2:$E$8,4,0) -> JOSE ALEJANDRO | E8: =VLOOKUP(A8,DATOS!$A$2:$E$8,5,0) -> 10000

Sheet BUSCARX
B3: HOY NO CIRCULA
M4: CODIGO | N4: PRODUCTO | O4: PRECIO UNITARIO
B5: LUNES | C5: 1 AL 2 | D5: ROJA | M5: 1001 | N5: ESTUFA | O5: 5000
B6: MARTES | C6: 3 AL 4 | D6: AMARILLO | M6: 1002 | N6: COMEDOR | O6: 6000
B7: MIERCOLES | C7: 5 AL 6 | D7: VERDE | M7: 1003 | N7: SALA | O7: 7000
B8: JUEVES | C8: 7 AL 8 | D8: AZUL | M8: 1004 | N8: TELEVISOR | O8: 8000
B9: VIERNES | C9: 9 AL 0 | D9: ROSA | M9: 1005 | N9: LAVADORA | O9: 9000
M10: 1006 | N10: GRABADORA | O10: 10000
M11: 1007 | N11: VIDEO GRABADORA | O11: 11000
M12: 1008 | N12: ESTEREO | O12: 12000
B13: BUSQUEDA VERTICAL | M13: 1009 | N13: HORNO DE MICRO HONDAS | O13: 13000
B14: DIA | M14: 1010 | N14: ESTRACTOR DE JUGOS | O14: 14000
B15: TERMINACION | M15: 1011 | N15: SECADORA | O15: 15000
B16: CALCOMANIA | M16: 1012 | N16: RECAMARA | O16: 16000
M17: 1013 | N17: VENTILADOR | O17: 17000
M19: BUSQUEDA VERTICAL
M20: CODIGO
M21: PRODUCTO
M22: PRECIO
B23: DIA | C23: LUNES | D23: MARTES | E23: MIERCOLES | F23: JUEVES | G23: VIERNES
B24: TERMINACION | C24: 1 AL 2 | D24: 3 AL 4 | E24: 5 AL 6 | F24: 7 AL 8 | G24: 9 AL 0
B25: CALCOMANIA | C25: ROJA | D25: AMARILLA | E25: VERDE | F25: AZUL | G25: ROSA
B27: HOY NO CIRCULA: | D27: TERMINACION | F27: CALCOMANIA
C36: NIVEL | D36: SUELDO | E36: COMPENSACION | F36: IVA | G36: SUELDO
D37: BRUTO | F37: 0.16 | G37: NETO
C38: 6 | D38: 15000
C39: 8 | D39: 12000
C40: 10 | D40: 10000
C41: 12 | D41: 8000
B44: NIVEL | C44: 6 | D44: 8 | E44: 10 | F44: 12
B45: COMPENSACION | C45: 700 | D45: 550 | E45: 400 | F45: 300
