Workbook

Sheet FALTÓ CAMBIO DE NOMBRE 2 HOJAS
A1: Grupo ICA, S.A. de C.V.
A3: DESPENSAS Y BONOS
C4: La Despensa equivale a un | D4: 0.075 | E4: del Sueldo
C5: El Bono equivale a un | D5: 0.1 | E5: del Sueldo
A7: TABLA DE SUELDOS
A8: Puesto | B8: Sueldo Base | C8: Despensa | D8: Bono | E8: Sueldo Mensual
A9: Analista | B9: 14230 | C9: =B9*$D$4 -> 1067.25 | D9: =B9*$D$5 -> 1423 | E9: =SUM(B9:D9) -> 16720.25
A10: Ayudante | B10: 4593 | C10: =B10*$D$4 -> 344.475 | D10: =B10*$D$5 -> 459.3 | E10: =SUM(B10:D10) -> 5396.775
A11: Consultor | B11: 23486 | C11: =B11*$D$4 -> 1761.45 | D11: =B11*$D$5 -> 2348.6 | E11: =SUM(B11:D11) -> 27596.05
A12: Contador | B12: 17814 | C12: =B12*$D$4 -> 1336.05 | D12: =B12*$D$5 -> 1781.4 | E12: =SUM(B12:D12) -> 20931.45
A13: Programador | B13: 11972 | C13: =B13*$D$4 -> 897.9 | D13: =B13*$D$5 -> 1197.2 | E13: =SUM(B13:D13) -> 14067.1
A14: Secretaria | B14: 5347 | C14: =B14*$D$4 -> 401.025 | D14: =B14*$D$5 -> 534.7 | E14: =SUM(B14:D14) -> 6282.725
A16: MÁXIMOS, MÍNIMOS Y PROMEDIOS
B17: Sueldo Base | C17: Despensa | D17: Bono | E17: Sueldo Mensual
A18: Promedio | B18: =AVERAGE(B9:B14) -> 12907 | C18: =AVERAGE(C9:C14) -> 968.025 | D18: =AVERAGE(D9:D14) -> 1290.7 | E18: =SUM(B18:D18) -> 15165.725
A19: Máximo | B19: =MAX(B9:B14) -> 23486 | C19: =MAX(C9:C14) -> 1761.45 | D19: =MAX(D9:D14) -> 2348.6 | E19: =SUM(B19:D19) -> 27596.05
A20: Mínimo | B20: =MIN(B9:B14) -> 4593 | C20: =MIN(C9:C14) -> 344.475 | D20: =MIN(D9:D14) -> 459.3 | E20: =SUM(B20:D20) -> 5396.775
A22: Puesto | B22: No. de Plazas | C22: Totales por Puesto
A23: Analista | B23: =Hoja2!A11 -> 3 | C23: =B23*E9 -> 50160.75
A24: Ayudante | B24: =COUNTA(Hoja2!B4:B9) -> 6 | C24: =B24*E10 -> 32380.65 | E24: Faltó formato en general a la hoja
A25: Consultor | B25: =COUNTA(Hoja2!C4:C6) -> 3 | C25: =B25*E11 -> 82788.15
A26: Contador | B26: =COUNTA(Hoja2!D4) -> 1 | C26: =B26*E12 -> 20931.45
A27: Programador | B27: =COUNTA(Hoja2!E4) -> 1 | C27: =B27*E13 -> 14067.1
A28: Secretaria | B28: =COUNTA(Hoja2!F4:F6) -> 3 | C28: =B28*E14 -> 18848.175
A29: Nómina Total Mensual | B29: =SUM(B23:B28) -> 17 | C29: =SUM(C23:C28) -> 219176.27
A31: Ingresos por Ventas Mensuales | C31: 250000
A33: Evaluación del Entorno: | C33: =IF(C29<=C31,"FAVORABLE","NO FAVORABLE ") -> FAVORABLE
B35: CHECAR FÓRMULAS EN LA SIG. HOJA. ==>
B37: ¡BIEN! (8)

Sheet Hoja2
A1: Plantilla de Personal por Puesto
A3: Analistas | B3: Ayudantes | C3: Consultores | D3: Contador | E3: Programador | F3: Secretarias
A4: Arellano Juárez Raúl | B4: Díaz Fernández César | C4: Gómez Córdoba Olivia | D4: Arellano Pérez Ángel | E4: García Candia Carmen | F4: Gámez Taméz Blanca
A5: Bátiz López Agustín | B5: Hernández Pérez Hugo | C5: Gil Belmont Silvia | F5: Bolaños Montes Cecilia
A6: Cuévas Basáñez Irma | B6: Núñez Martínez Alma | C6: Martínez Ruiz Verónica | F6: Aponte Villa Ilse
B7: Casanova Tinajero Lidia
B8: Moreno Tapia José
B9: Alva Casaubón Toribio
A11: =COUNTA(A4:A10) -> 3 | B11: =COUNTA(B4:B10) -> 6 | C11: =COUNTA(C4:C10) -> 3 | D11: =COUNTA(D4:D10) -> 1 | E11: =COUNTA(E4:E10) -> 1 | F11: =COUNTA(F4:F10) -> 3
