Workbook

Sheet Faltó cambiar nombre 2 hojas
A1: Grupo ICA, S.A. de C.V.
A3: DESPENSAS Y BONOS
C4: La Despensa equivale a un | D4: 0.075 | E4: del Sueldo
C5: El Bono equivale a un | D5: 0.1 | E5: del Sueldo
A7: TABLA DE SUELDOS
A8: Puesto | B8: Sueldo Base | C8: Despensa | D8: Bono | E8: Sueldo Mensual
A9: Columna1 | B9: Columna2 | C9: Columna3 | D9: Columna4 | E9: Columna5
A10: Analista | B10: 14230 | C10: =B10*$D$4 -> 1067.25 | D10: =B10*$D$5 -> 1423 | E10: =B10+C10+D10 -> 16720.25
A11: Ayudante | B11: 4593 | C11: =B11*$D$4 -> 344.475 | D11: =B11*$D$5 -> 459.3 | E11: =B11+C11+D11 -> 5396.775
A12: Consultor | B12: 23486 | C12: =B12*$D$4 -> 1761.45 | D12: =B12*$D$5 -> 2348.6 | E12: =B12+C12+D12 -> 27596.05
A13: Contador | B13: 17814 | C13: =B13*$D$4 -> 1336.05 | D13: =B13*$D$5 -> 1781.4 | E13: =B13+C13+D13 -> 20931.45
A14: Programador | B14: 11972 | C14: =B14*$D$4 -> 897.9 | D14: =B14*$D$5 -> 1197.2 | E14: =B14+C14+D14 -> 14067.1
A15: Secretaria | B15: 5347 | C15: =B15*$D$4 -> 401.025 | D15: =B15*$D$5 -> 534.7 | E15: =B15+C15+D15 -> 6282.725
A16: MÁXIMOS, MÍNIMOS Y PROMEDIOS
A17: Columna1 | B17: Sueldo Base | C17: Despensa | D17: Bono | E17: Sueldo Mensual | G17: Faltó formato de moneda a las cifras
A18: Promedio | B18: =AVERAGE(B10:B15) -> 12907 | C18: =AVERAGE(C10:C15) -> 968.025 | D18: =AVERAGE(D10:D15) -> 1290.7 | E18: =AVERAGE(E10:E15) -> 15165.725
A19: Máximo | B19: =MAX(B10:B15) -> 23486 | C19: =MAX(C10:C15) -> 1761.45 | D19: =MAX(D10:D15) -> 2348.6 | E19: =MAX(E10:E15) -> 27596.05
A20: Mínimo | B20: =MIN(B10:B15) -> 4593 | C20: =MIN(C10:C15) -> 344.475 | D20: =MIN(D10:D15) -> 459.3 | E20: =MIN(E10:E15) -> 5396.775
A22: Puesto | B22: No. de Plazas | C22: Totales por Puesto
A23: Analista | B23: =Hoja2!$A$11 -> 3 | C23: =B23*E10 -> 50160.75
A24: Ayudante | B24: =Hoja2!$B$11 -> 6 | C24: =B24*E11 -> 32380.65 | E24: Checar fórmulas en la sig. Hoja
A25: Consultor | B25: =Hoja2!$C$11 -> 3 | C25: =B25*E12 -> 82788.15 | E25: y vínculos en b23 (esta hoja) hacia abajo.
A26: Contador | B26: =Hoja2!$D$11 -> 1 | C26: =B26*E13 -> 20931.45
A27: Programador | B27: =Hoja2!$E$11 -> 1 | C27: =B27*E14 -> 14067.1
A28: Secretaria | B28: =Hoja2!$F$11 -> 3 | C28: =B28*E15 -> 18848.175
A29: Nómina Total Mensual | B29: =SUM(B23:B28) -> 17 | C29: =SUM(C23:C28) -> 219176.27
A31: Ingresos por Ventas Mensuales | C31: 250000
A33: Evaluación del Entorno: | B33: =IF(C29<=C31,"Favorable","Desfavorable") -> Favorable | C33: ¡Muy bien! (9)

Sheet Hoja2
A1: Plantilla de Personal por Puesto
A3: Analistas | B3: Ayudantes | C3: Consultores | D3: Contador | E3: Programador | F3: Secretarias
A4: Arellano Juárez Raúl | B4: Díaz Fernández César | C4: Gómez Córdoba Olivia | D4: Arellano Pérez Ángel | E4: García Candia Carmen | F4: Gámez Taméz Blanca
A5: Bátiz López Agustín | B5: Hernández Pérez Hugo | C5: Gil Belmont Silvia | F5: Bolaños Montes Cecilia
A6: Cuévas Basáñez Irma | B6: Núñez Martínez Alma | C6: Martínez Ruiz Verónica | F6: Aponte Villa Ilse
B7: Casanova Tinajero Lidia
B8: Moreno Tapia José
B9: Alva Casaubón Toribio
A11: =COUNTA(A4:A10) -> 3 | B11: =COUNTA(B4:B10) -> 6 | C11: =COUNTA(C4:C10) -> 3 | D11: =COUNTA(D4:D10) -> 1 | E11: =COUNTA(E4:E10) -> 1 | F11: =COUNTA(F4:F10) -> 3
B13: ASÍ DEBIÓ QUEDAR
